BEGIN:VCALENDAR
VERSION:2.0
PRODID:-//Friends of Pritzker - ECPv6.15.20//NONSGML v1.0//EN
CALSCALE:GREGORIAN
METHOD:PUBLISH
X-WR-CALNAME:Friends of Pritzker
X-ORIGINAL-URL:https://friendsofpritzker.org
X-WR-CALDESC:Events for Friends of Pritzker
REFRESH-INTERVAL;VALUE=DURATION:PT1H
X-Robots-Tag:noindex
X-PUBLISHED-TTL:PT1H
BEGIN:VTIMEZONE
TZID:America/Chicago
BEGIN:DAYLIGHT
TZOFFSETFROM:-0600
TZOFFSETTO:-0500
TZNAME:CDT
DTSTART:20200308T080000
END:DAYLIGHT
BEGIN:STANDARD
TZOFFSETFROM:-0500
TZOFFSETTO:-0600
TZNAME:CST
DTSTART:20201101T070000
END:STANDARD
BEGIN:DAYLIGHT
TZOFFSETFROM:-0600
TZOFFSETTO:-0500
TZNAME:CDT
DTSTART:20210314T080000
END:DAYLIGHT
BEGIN:STANDARD
TZOFFSETFROM:-0500
TZOFFSETTO:-0600
TZNAME:CST
DTSTART:20211107T070000
END:STANDARD
BEGIN:DAYLIGHT
TZOFFSETFROM:-0600
TZOFFSETTO:-0500
TZNAME:CDT
DTSTART:20220313T080000
END:DAYLIGHT
BEGIN:STANDARD
TZOFFSETFROM:-0500
TZOFFSETTO:-0600
TZNAME:CST
DTSTART:20221106T070000
END:STANDARD
END:VTIMEZONE
BEGIN:VEVENT
DTSTART;TZID=America/Chicago:20211008T100000
DTEND;TZID=America/Chicago:20211008T120000
DTSTAMP:20260421T103811
CREATED:20210419T014824Z
LAST-MODIFIED:20210617T135100Z
UID:14167-1633687200-1633694400@friendsofpritzker.org
SUMMARY:Walkathon!
DESCRIPTION:10/8/21 = Walkathon!\nA student led fundraising event with a focus on health and fitness. Rain date is Friday\, October 15th.
URL:https://friendsofpritzker.org/event/walkathon-2/
END:VEVENT
BEGIN:VEVENT
DTSTART;TZID=America/Chicago:20210918T150000
DTEND;TZID=America/Chicago:20210918T180000
DTSTAMP:20260421T103811
CREATED:20210419T014735Z
LAST-MODIFIED:20210812T202630Z
UID:14166-1631977200-1631988000@friendsofpritzker.org
SUMMARY:Back to School Bash
DESCRIPTION:Back to School Bash\nAn outdoor family event to build community with a Live DJ\, food & games! Suggested donation to be paid at the gate. Rain date is Saturday 9/25.
URL:https://friendsofpritzker.org/event/back-to-school-bash/
END:VEVENT
BEGIN:VEVENT
DTSTART;TZID=America/Chicago:20210909T190000
DTEND;TZID=America/Chicago:20210909T200000
DTSTAMP:20260421T103811
CREATED:20210419T014415Z
LAST-MODIFIED:20210812T202142Z
UID:14165-1631214000-1631217600@friendsofpritzker.org
SUMMARY:Kickoff Meeting for Back to School (September)
DESCRIPTION:09/09/21 = Kickoff Meeting for back to school\nMonthly Parent meets will be held the 2nd Thursday of each month at 7pm. Meet: https://meet.google.com/zsa-xaqd-nbx
URL:https://friendsofpritzker.org/event/kickoff-meeting-for-back-to-school-september/
END:VEVENT
BEGIN:VEVENT
DTSTART;TZID=America/Chicago:20210825T093000
DTEND;TZID=America/Chicago:20210825T150000
DTSTAMP:20260421T103811
CREATED:20210617T135508Z
LAST-MODIFIED:20210617T140858Z
UID:14323-1629883800-1629903600@friendsofpritzker.org
SUMMARY:Orientation Welcome Table
DESCRIPTION:Table outside the front door during Orientation. Wednesday Aug. 25th \n\n9:30 – 11am PreK-2nd grade student families\n11-12:30pm 3-6th grade student families\n12:30-1:15pm lunch\n1:15-2:45pm 7-8th grade student families
URL:https://friendsofpritzker.org/event/orientation-welcome-table/
END:VEVENT
BEGIN:VEVENT
DTSTART;TZID=America/Chicago:20210812T190000
DTEND;TZID=America/Chicago:20210812T200000
DTSTAMP:20260421T103811
CREATED:20210419T014221Z
LAST-MODIFIED:20210812T202113Z
UID:14164-1628794800-1628798400@friendsofpritzker.org
SUMMARY:Kickoff Meeting for Back to School (August)
DESCRIPTION:Monthly Parent meets will be held the 2nd Thursday of each month at 7 pm. Meet: https://meet.google.com/zsa-xaqd-nbx
URL:https://friendsofpritzker.org/event/kickoff-meeting-for-back-to-school-august/
END:VEVENT
BEGIN:VEVENT
DTSTART;TZID=America/Chicago:20210520T190000
DTEND;TZID=America/Chicago:20210520T203000
DTSTAMP:20260421T103811
CREATED:20210419T024219Z
LAST-MODIFIED:20210419T024219Z
UID:14173-1621537200-1621542600@friendsofpritzker.org
SUMMARY:FOP Meeting\, May 20\, 2021
DESCRIPTION:FOP virtual meeting in May to confirm the Board and plan fundraising events for the 21/22 School Year. Please join us on Thursday May 20th at 7:00 pm\, using this Zoom link: \nJoin Zoom Meeting\nhttps://us02web.zoom.us/j/7433530015 \nDial by your location\nMeeting ID: 743 353 0015\nFind your local number:\nhttps://us02web.zoom.us/u/kdv2GTRiuU
URL:https://friendsofpritzker.org/event/fop-meeting-may-20-2021/
END:VEVENT
BEGIN:VEVENT
DTSTART;TZID=America/Chicago:20210122T191500
DTEND;TZID=America/Chicago:20210122T201500
DTSTAMP:20260421T103811
CREATED:20210110T213636Z
LAST-MODIFIED:20210110T213636Z
UID:14143-1611342900-1611346500@friendsofpritzker.org
SUMMARY:Making Magic Happen! (7:15 pm)
DESCRIPTION:We are hosting a magic show\, a virtual family meet-up & a fundraiser all in one!\n\n\n\n\n\nAbout this Event\n\n\nWe are delighted to kick back at home with an Old School Chicago Magician and YOU! This is a chance to see other A.N. Pritzker families\, entertain the family and raise funds to renovate the school bathrooms!
URL:https://friendsofpritzker.org/event/making-magic-happen-715-pm/
END:VEVENT
BEGIN:VEVENT
DTSTART;TZID=America/Chicago:20210122T180000
DTEND;TZID=America/Chicago:20210122T190000
DTSTAMP:20260421T103811
CREATED:20210110T213409Z
LAST-MODIFIED:20210110T213409Z
UID:14142-1611338400-1611342000@friendsofpritzker.org
SUMMARY:Making Magic Happen (6:00pm)
DESCRIPTION:We are hosting a magic show\, a virtual family meet-up & a fundraiser all in one!\n\n\n\n\n\nAbout this Event\n\n\nWe are delighted to kick back at home with an Old School Chicago Magician and YOU! This is a chance to see other AN Pritzker families\, entertain the family and raise funds to renovate the school bathrooms!
URL:https://friendsofpritzker.org/event/making-magic-happen-600pm/
END:VEVENT
END:VCALENDAR